BEGIN:VCALENDAR
VERSION:2.0
PRODID:-//ExpressionEngine Easy iCalendar plugin//NONSGML v2.0.1//EN
X-WR-TIMEZONE:America/New_York
X-WR-CALNAME:Upcoming Auctions
BEGIN:VEVENT
UID:131131
DTSTAMP:20250101T190000
DTSTART:20250101T190000
DTEND:20250113T190000
SUMMARY:New Year's Freedom Auction
LOCATION:770 Cornell rd\, rocky mount\, VA 24151\, US
DESCRIPTION:Bidding Opens - Wednesday\, January 1st at 7PM Bidding Close
 s - Monday\, January 13th beginning at 7PM Preview/Open-House
  - Monday\, January 13th from 2pm-5:30pm Pickup/Removal - T
 uesday\, January 14th and Wednesday\, January 15th from 10am-5
 :30pm Cost to transfer firearms is $15.00. The $15 fee will 
 be added to your invoice. If you transfer 4 or more guns in 
 the same day the fee will be an additional $5 equating to a 
 $20 fee. The $20 fee is only applicable to purchasers who ar
 e registering 4 or more guns at a time. Fees are applicable 
 to VA state sales tax.  
URL:https://www.luckydogauction.com/auctions/detail/bw131131
SEQUENCE:1
END:VEVENT
END:VCALENDAR