BEGIN:VCALENDAR
VERSION:2.0
PRODID:-//ExpressionEngine Easy iCalendar plugin//NONSGML v2.0.1//EN
X-WR-TIMEZONE:America/New_York
X-WR-CALNAME:Upcoming Auctions
BEGIN:VEVENT
UID:131134
DTSTAMP:20241125T190000
DTSTART:20241125T190000
DTEND:20241215T190000
SUMMARY:Sportsman Accessory Auction
LOCATION:770 Cornell rd\, rocky mount\, VA 24151\, US
DESCRIPTION:Bidding Opens -Â Monday\, November 25thÂ beginning at 7PM Bid
 ding Closes - Sunday\, December 15th beginning at 7PM Preview
 /Open-House -Â Friday\, December 13thÂ from 2PMÂ till 5:30PMÂ
   Pickup/Removal -Â Monday\, December 16thÂ fromÂ 10AM till 5
 :30PMÂ  Please Note:Â All items are sold as-is and where-is 
 with no warranty expressed or implied. There is a 15% buyer 
 premium that applies to all purchases\, as does VA sales tax.
  Receive a 3% discount off the premium by paying with cash o
 r check.
URL:https://www.luckydogauction.com/auctions/detail/bw131134
SEQUENCE:1
END:VEVENT
END:VCALENDAR