BEGIN:VCALENDAR
VERSION:2.0
PRODID:-//ExpressionEngine Easy iCalendar plugin//NONSGML v2.0.1//EN
X-WR-TIMEZONE:America/New_York
X-WR-CALNAME:Upcoming Auctions
BEGIN:VEVENT
UID:131135
DTSTAMP:20241125T190000
DTSTART:20241125T190000
DTEND:20241216T190000
SUMMARY:Compton Firearm Collection
LOCATION:770 Cornell rd\, rocky mount\, VA 24151\, US
DESCRIPTION:Bidding Opens - Monday\, November 25th at 7PM  Bidding Clo
 ses - Monday\, December 16th beginning at 7PM Preview/Open-Ho
 use - Monday\, December 16th from 10AM till 5:30PM  Pickup
 /Removal - Tuesday\, December 17th & Wednesday\, December 18t
 h from 10AM till 5:30PM  Cost to transfer firearms is $15.
 00. The $15 fee will be added to your invoice. If you transf
 er 4 or more guns in the same day the fee will be an additio
 nal $5 equating to a $20 fee. The $20 fee is only applicable
  to purchasers who are registering 4 or more guns at a time.
  Fees are applicable to VA state sales tax
URL:https://www.luckydogauction.com/auctions/detail/bw131135
SEQUENCE:1
END:VEVENT
END:VCALENDAR