BEGIN:VCALENDAR
VERSION:2.0
PRODID:-//ExpressionEngine Easy iCalendar plugin//NONSGML v2.0.1//EN
X-WR-TIMEZONE:America/New_York
X-WR-CALNAME:Upcoming Auctions
BEGIN:VEVENT
UID:131352
DTSTAMP:20250103T190000
DTSTART:20250103T190000
DTEND:20250114T190000
SUMMARY:Winter Equipment Auction
LOCATION:{location}
DESCRIPTION:Winter Equipment Auction Bidding Opens - Friday\, January 3rd
  at 7PM Bidding Closes - Tuesday\, January 14th beginning at
  7PM Preview/Open-House - Saturday\, January 11th from 9AM un
 til NOON & Tuesday\, January 14th from 9AM until 5:30PM Picku
 p/Removal - Wednesday\, January 15th / Thursday\, January 16th
  / Friday\, January 17th from 10AM until 5PM Please Note - A
 ll items are sold as-is and where-is with no warranty expres
 sed or implied. There is a 15% buyer premium that applies to
  all purchases\, as does VA sales tax. Receive a 3% discount 
 off the premium by paying with cash or good check. No out of
  state personal checks will be accepted. Bring your ST-18 or
  ST-10 Forms for tax exempt. 
URL:https://www.luckydogauction.com/auctions/detail/bw131352
SEQUENCE:1
END:VEVENT
END:VCALENDAR