BEGIN:VCALENDAR
VERSION:2.0
PRODID:-//ExpressionEngine Easy iCalendar plugin//NONSGML v2.0.1//EN
X-WR-TIMEZONE:America/New_York
X-WR-CALNAME:Upcoming Auctions
BEGIN:VEVENT
UID:131761
DTSTAMP:20241219T190000
DTSTART:20241219T190000
DTEND:20250121T110000
SUMMARY:1105 Belle Isle Dr Real Estate Auction
LOCATION:{location}
DESCRIPTION:Online Real Estate Auction - 1105 Belle Isle Dr Union Hall\,
  VA 24176 Bidding Opens - Thursday\, December 19th at 7PM Bid
 ding Closes - Tuesday\, January 21st at 11AM Call Phillip Via
 \, CAI (Auctioneer) at (540) 312-8569 for a private showing! 
 Starting Bid of Only $350K Broker/Agent Participation Compen
 sation (3%) with completed Broker Participation Form 
URL:https://www.luckydogauction.com/auctions/detail/bw131761
SEQUENCE:1
END:VEVENT
END:VCALENDAR