BEGIN:VCALENDAR
VERSION:2.0
PRODID:-//ExpressionEngine Easy iCalendar plugin//NONSGML v2.0.1//EN
X-WR-TIMEZONE:America/New_York
X-WR-CALNAME:Upcoming Auctions
BEGIN:VEVENT
UID:132086
DTSTAMP:20241211T190000
DTSTART:20241211T190000
DTEND:20241219T190000
SUMMARY:December Consignment Auction Part II
LOCATION:770 Cornell Rd\, Rocky Mount\, VA 24151\, US
DESCRIPTION:December Consignment Auction Part II Bidding Opens - Wednes
 day\, December 11th at 7PM Bidding Closes - Thursday\, Decembe
 r 19th beginning at 7PM Preview/Open-House - Thursday\, Dece
 mber 19th from 2pm-5:30pm Pickup/Removal - Friday\, December
  20th 10am-5:30pm Please Note: All items are sold as-is and 
 where-is with no warranty expressed or implied. There is a 1
 5% buyer premium that applies to all purchases\, as does VA s
 ales tax. Receive a 3% discount off the premium by paying wi
 th cash or check. 
URL:https://www.luckydogauction.com/auctions/detail/bw132086
SEQUENCE:1
END:VEVENT
END:VCALENDAR