BEGIN:VCALENDAR
VERSION:2.0
PRODID:-//ExpressionEngine Easy iCalendar plugin//NONSGML v2.0.1//EN
X-WR-TIMEZONE:America/New_York
X-WR-CALNAME:Upcoming Auctions
BEGIN:VEVENT
UID:132657
DTSTAMP:20250121T190000
DTSTART:20250121T190000
DTEND:20250128T190000
SUMMARY:Ammo & Knives Auction
LOCATION:770 Cornell rd\, rocky mount\, VA 24151\, US
DESCRIPTION:Looking to sell? Call Nick Carter at (540) 420-4091 to get y
 our items in the auction! Bidding Opens: Tuesday\, January 21
 st at 7pm Bidding Closes: Tuesday\, January 28th beginning at
  7pm Preview/ Open-House: Tuesday\, January 28th from 2pm-5:3
 0pm Pickup/Removal: Wednesday\, January 29th from 10am-5:30pm
  Please Note: All items are sold as-is and where-is with no
  warranty expressed or implied. There is a 15% buyer premium
  that applies to all purchases\, as does VA sales tax. Receiv
 e a 3% discount off the premium by paying with cash or good 
 check. 
URL:https://www.luckydogauction.com/auctions/detail/bw132657
SEQUENCE:1
END:VEVENT
END:VCALENDAR