BEGIN:VCALENDAR
VERSION:2.0
PRODID:-//ExpressionEngine Easy iCalendar plugin//NONSGML v2.0.1//EN
X-WR-TIMEZONE:America/New_York
X-WR-CALNAME:Upcoming Auctions
BEGIN:VEVENT
UID:133757
DTSTAMP:20250205T190000
DTSTART:20250205T190000
DTEND:20250212T190000
SUMMARY:February Consignment Auction Part II
LOCATION:770 Cornell Rd\, Rocky Mount\, VA 24151\, US
DESCRIPTION:February Consignment Auction Part II Bidding Opens - Wednesd
 ay\, February 5th at 7PM Bidding Closes- Wednesday\, February 
 12th beginning at 7PM Preview/Open House - Wednesday\, Februa
 ry 12th from 2-5:30PM Pickup/Removal - Thursday\, February 13
 th from 10AM-05:30PM Please Note:  All items are sold as-i
 s and where-is with no warranty expressed or implied. There 
 is a 15% buyer premium that applies to all purchases\, as doe
 s VA sales tax. Receive a 3% discount off the premium by pay
 ing with a cash or good check. Payment to be made within 24
 hours of Auction's end.   
URL:https://www.luckydogauction.com/auctions/detail/bw133757
SEQUENCE:1
END:VEVENT
END:VCALENDAR