BEGIN:VCALENDAR
VERSION:2.0
PRODID:-//ExpressionEngine Easy iCalendar plugin//NONSGML v2.0.1//EN
X-WR-TIMEZONE:America/New_York
X-WR-CALNAME:Upcoming Auctions
BEGIN:VEVENT
UID:134315
DTSTAMP:20250331T190000
DTSTART:20250331T190000
DTEND:20250414T190000
SUMMARY:Spring Equipment Auction
LOCATION:770 Cornell rd\, rocky mount\, VA 24151\, US
DESCRIPTION:Spring Equipment Auction Bidding Opens - Monday\, March 31st
  at 7PM Bidding Closes - Monday\, April 14th beginning at 
 7PM Preview/Open-House - Saturday\, April 12th from 9AM unt
 il NOON & Monday\, April 14th from 10AM until 5:30PM Pickup/
 Removal - Tuesday\, April 15\, Wednesday\, April 16th\, Thursda
 y\, April 17th\, Friday\, April 18th from 10AM until 5PM By A
 ppointment Only. Pickup will be by appointment only. There w
 ill be a link sent in the invoice emailed to you to the sign
  up schedule AFTER the auction ends. Follow the link on your
  invoice to sign up for a date and time slot.  Please Note 
 - All items are sold as-is and where-is with no warranty ex
 pressed or implied. There is a 15% buyer premium that applie
 s to all purchases\, as does VA sales tax. Receive a 3% disco
 unt off the premium by paying with cash or good check. No ou
 t of state personal checks will be accepted. Bring your ST-1
 8 or ST-10 Forms for tax exempt. 
URL:https://www.luckydogauction.com/auctions/detail/bw134315
SEQUENCE:1
END:VEVENT
END:VCALENDAR