BEGIN:VCALENDAR
VERSION:2.0
PRODID:-//ExpressionEngine Easy iCalendar plugin//NONSGML v2.0.1//EN
X-WR-TIMEZONE:America/New_York
X-WR-CALNAME:Upcoming Auctions
BEGIN:VEVENT
UID:134814
DTSTAMP:20250212T190000
DTSTART:20250212T190000
DTEND:20250223T190000
SUMMARY:Patrick Springs Reloading\, Ammo and Tools
LOCATION:770 Cornell Rd\, Rocky Mount\, VA 24151\, US
DESCRIPTION:Bidding opens - Tuesday\, February 12th beginning at 7PM Bidd
 ing closes - Sunday\, February 23rd beginning at 7PM Preview/
 Open House - Friday\, February 21st from Noon - 5:30PM Pickup
 /Removal - Monday\, February 24th from 10AM-5:30PM Please Not
 e:Â Â All items are sold as-is and where-is with no warranty
  expressed or implied. There is a 15% buyer premium that app
 lies to all purchases\, as does VA sales tax. Receive a 3% di
 scount off the premium by paying with a cash or good check.Â
  Payment to be made within 24 hours of Auction's end.Â 
URL:https://www.luckydogauction.com/auctions/detail/bw134814
SEQUENCE:1
END:VEVENT
END:VCALENDAR