BEGIN:VCALENDAR
VERSION:2.0
PRODID:-//ExpressionEngine Easy iCalendar plugin//NONSGML v2.0.1//EN
X-WR-TIMEZONE:America/New_York
X-WR-CALNAME:Upcoming Auctions
BEGIN:VEVENT
UID:135363
DTSTAMP:20250313T190000
DTSTART:20250313T190000
DTEND:20250320T190000
SUMMARY:Old Fort Road Downsizing Auction
LOCATION:110 Old Fort Road\, Rocky Mount\, VA 24151\, US
DESCRIPTION:Old Fort Road Downsizing Auction Bidding Opens - Thursday\, M
 arch 13th at 7PM Bidding Closes - Thursday\, March 20th begin
 ning at 7PM Preview/ Open House - Thursday\, March 20th from
  2-5:30PM Pick up/Removal - Friday\, March 21st from 10-5:30
 PM Location - 110 Old Fort Rd  Rocky Mount\, VA 24151 Please
  Note:  All items are sold as-is and where-is with no warr
 anty expressed or implied. There is a 15% buyer premium that
  applies to all purchases\, as does VA sales tax. Receive a 3
 % discount off the premium by paying with a cash or good che
 ck. Payment to be made within 24 hours of Auction's end. *T
 he scheduled pickup date/time is the only date/times that th
 e property is accessible for pickup. Any items left behind w
 ill be forfeited by the purchaser. 
URL:https://www.luckydogauction.com/auctions/detail/bw135363
SEQUENCE:1
END:VEVENT
END:VCALENDAR