BEGIN:VCALENDAR
VERSION:2.0
PRODID:-//ExpressionEngine Easy iCalendar plugin//NONSGML v2.0.1//EN
X-WR-TIMEZONE:America/New_York
X-WR-CALNAME:Upcoming Auctions
BEGIN:VEVENT
UID:135402
DTSTAMP:20250227T190000
DTSTART:20250227T190000
DTEND:20250306T190000
SUMMARY:March Consignment Auction
LOCATION:770 Cornell Rd\, Rocky Mount\, VA 24151\, US
DESCRIPTION:March Consignment Auction Bidding Opens - Thursday\, February
  27th at 7PM Bidding Closes - Thursday\, March 6th beginning 
 at 7PM Preview/Open-House - Thursday\, March 6th from 2PM un
 til 5:30PM at 770 Cornell Rd Rocky Mount\, VA 24151 Pickup/Re
 moval - Friday\, March 7th from 10AM until 5:30PM  Please No
 te: All items are sold as-is and where-is with no warranty e
 xpressed or implied. There is a 15% buyer premium that appli
 es to all purchases\, as does VA sales tax. Receive a 3% disc
 ount off the premium by paying with cash or good check. 
URL:https://www.luckydogauction.com/auctions/detail/bw135402
SEQUENCE:1
END:VEVENT
END:VCALENDAR