BEGIN:VCALENDAR
VERSION:2.0
PRODID:-//ExpressionEngine Easy iCalendar plugin//NONSGML v2.0.1//EN
X-WR-TIMEZONE:America/New_York
X-WR-CALNAME:Upcoming Auctions
BEGIN:VEVENT
UID:135483
DTSTAMP:20250310T190000
DTSTART:20250310T190000
DTEND:20250317T190000
SUMMARY:March Sportsman's Auction
LOCATION:770 Cornell rd\, rocky mount\, VA 24151\, US
DESCRIPTION:Bidding opens - Monday\, March 10th beginning at 7PM Biddin
 g closes - Monday\, March 17th beginning at 7PM Preview/Open
  House - Monday\, March 17th from 2PM - 5:30PM Pickup/Remov
 al - Tuesday\, March 18th from 10AM-5:30PM (Items not picke
 d up on this date are subject to a $7 storage fee) Any item
 s not picked up within one week of the auction's pick up dat
 e will be forfeited to the auction company.  Please Note: 
  All items are sold as-is and where-is with no warranty exp
 ressed or implied. There is a 15% buyer premium that applies
  to all purchases\, as does VA sales tax. Receive a 3% discou
 nt off the premium by paying with a cash or good check. Pay
 ment to be made within 24 hours of Auction's end. 
URL:https://www.luckydogauction.com/auctions/detail/bw135483
SEQUENCE:1
END:VEVENT
END:VCALENDAR