BEGIN:VCALENDAR
VERSION:2.0
PRODID:-//ExpressionEngine Easy iCalendar plugin//NONSGML v2.0.1//EN
X-WR-TIMEZONE:America/New_York
X-WR-CALNAME:Upcoming Auctions
BEGIN:VEVENT
UID:136204
DTSTAMP:20250324T190000
DTSTART:20250324T190000
DTEND:20250331T190000
SUMMARY:Gift Shop Liquidation Auction
LOCATION:770 Cornell Rd\, Rocky Mount\, VA 24151\, US
DESCRIPTION:Gift Shop Liquidation Auction Bidding Opens - Monday\, March 
 24th at 7PM Bidding Closes - Monday\, March 31st beginning 
 at 7PM Preview/Open-House - Monday\, March 31st from 2PM un
 til 5:30PM at 770 Cornell Rd Rocky Mount\, VA 24151 Pickup/Re
 moval - Tuesday\, April 1st from 10AM until 5:30PM Please No
 te: All items are sold as-is and where-is with no warranty 
 expressed or implied. There is a 15% buyer premium and Virgi
 nia state sales tax applies. Receive a 3% discount off the p
 remium by paying with cash or check. Items not picked up on 
 the scheduled pickup day will be subject to a $7 storage fee
 . Items will be held for a maximum of 7 days after the aucti
 on then considered forfeited. 
URL:https://www.luckydogauction.com/auctions/detail/bw136204
SEQUENCE:1
END:VEVENT
END:VCALENDAR