BEGIN:VCALENDAR
VERSION:2.0
PRODID:-//ExpressionEngine Easy iCalendar plugin//NONSGML v2.0.1//EN
X-WR-TIMEZONE:America/New_York
X-WR-CALNAME:Upcoming Auctions
BEGIN:VEVENT
UID:136288
DTSTAMP:20250314T190000
DTSTART:20250314T190000
DTEND:20250319T190000
SUMMARY:March Consignment Auction - Part II
LOCATION:770 Cornell Rd\, Rocky Mount\, VA 24151\, US
DESCRIPTION:March Consignment Auction - Part II Bidding Opens - Friday\, 
 March 14th at 7PM Bidding Closes - Wednesday\, March 19th beg
 inning at 7PM Preview/Open-House - Wednesday\, March 19th fro
 m 2PM until 5:30PM at 770 Cornell Rd Rocky Mount\, VA 24151 P
 ickup/Removal - Thursday\, March 20th from 10AM until 5:30PM 
 Please Note: All items are sold as-is and where-is with no w
 arranty expressed or implied. There is a 15% buyer premium a
 nd Virginia state sales tax applies. Receive a 3% discount o
 ff the premium by paying with cash or check. Items not picke
 d up on the scheduled pickup day will be subject to a $7 sto
 rage fee. Items will be held for a maximum of 7 days after t
 he auction then considered forfeited. 
URL:https://www.luckydogauction.com/auctions/detail/bw136288
SEQUENCE:1
END:VEVENT
END:VCALENDAR