BEGIN:VCALENDAR
VERSION:2.0
PRODID:-//ExpressionEngine Easy iCalendar plugin//NONSGML v2.0.1//EN
X-WR-TIMEZONE:America/New_York
X-WR-CALNAME:Upcoming Auctions
BEGIN:VEVENT
UID:137216
DTSTAMP:20250326T190000
DTSTART:20250326T190000
DTEND:20250403T190000
SUMMARY:Angle Plantation Downsizing Auction
LOCATION:770 Cornell Rd\, Rocky Mount \, VA 24151\, US
DESCRIPTION:Angle Plantation Downsizing Auction  Bidding Opens - Wednes
 day\, March 26th at 7PM Bidding Closes - Thursday\, April 3rd
  beginning at 7PM Preview/Open-House - Thursday\, April 3rd 
 from 2-5:30PM Pickup/Removal - Friday\, April 4th from 10AM-
 5:30PM Please Note: All items are sold as-is and where-is w
 ith no warranty expressed or implied. There is a 15% buyer p
 remium and Virginia state sales tax applies. Receive a 3% di
 scount off the premium by paying with cash or check. Items n
 ot picked up on the scheduled pickup day will be subject to 
 a $7 storage fee. Items will be held for a maximum of 7 days
  after the auction then considered forfeited. 
URL:https://www.luckydogauction.com/auctions/detail/bw137216
SEQUENCE:1
END:VEVENT
END:VCALENDAR