BEGIN:VCALENDAR
VERSION:2.0
PRODID:-//ExpressionEngine Easy iCalendar plugin//NONSGML v2.0.1//EN
X-WR-TIMEZONE:America/New_York
X-WR-CALNAME:Upcoming Auctions
BEGIN:VEVENT
UID:137293
DTSTAMP:20250401T190000
DTSTART:20250401T190000
DTEND:20250408T190000
SUMMARY:April 2nd Amendment Auction
LOCATION:770 Cornell Rd\, Rocky Mount\, VA 24151\, US
DESCRIPTION:Bidding opens - Tuesday\, April 1st at 7pm Bidding closes - T
 uesday\, April 8th beginning at 7pm Preview/Open-House - Tues
 day\, April 8th from 12pm-5:30pm Pickup/Removal - Wednesday\, 
 April 8th from 10am-5:30pm and Thursday\, April 10th from 10a
 m-5:30pm  BY APPOINTMENT ONLY Pickup will be by appointment
  only. There will be a link sent in the invoice emailed to y
 ou to the sign up schedule AFTER the auction ends.  Cost t
 o transfer firearms is $15.00. The $15 fee will be added to 
 your invoice. If you transfer 4 or more guns in the same day
  the fee will be an additional $5 equating to a $20 fee. The
  $20 fee is only applicable to purchasers who are registerin
 g 4 or more guns at a time. Fees are applicable to VA state 
 sales tax. If you purchase more than (1) handgun and do NOT 
 have a concealed handgun permit\, Lucky Dog Auction & Realty 
 will hold your handgun until the following month. The handgu
 n must be paid in full and there is $15/month storage fee. 
  Please Note: All items are sold as-is and where-is with no
  warranty expressed or implied. There is a 15% buyer premium
  that applies to all purchases\, as does VA sales tax. Receiv
 e a 3% discount off the premium by paying with cash or check
 . There is a $15 transfer fee for 3 firearms or less\, 4 or m
 ore is $20. The transfer fee will be added to your invoice a
 t the end of the auction. Lucky Dog Auction is a licensed FF
 L dealer. All local\, state\, and federal laws apply.  Backgr
 ound checks are conducted on the premises at time of payment
 . Please bring a concealed weapons permit to purchase more 
 than one handgun at a time. If you do not have a concealed w
 eapons permit you may only purchase one handgun per 30 days.
  If you have renewed your drivers license recently: 30 days
  must have passed since that renewal date to purchase a fire
 arm. Your ID MUST have your current address listed.   Nick 
 Carter Lucky Dog Auction & Realty nick@luckydogauction.com 5
 40-420-4091
URL:https://www.luckydogauction.com/auctions/detail/bw137293
SEQUENCE:1
END:VEVENT
END:VCALENDAR