BEGIN:VCALENDAR
VERSION:2.0
PRODID:-//ExpressionEngine Easy iCalendar plugin//NONSGML v2.0.1//EN
X-WR-TIMEZONE:America/New_York
X-WR-CALNAME:Upcoming Auctions
BEGIN:VEVENT
UID:137973
DTSTAMP:20250331T190000
DTSTART:20250331T190000
DTEND:20250411T190000
SUMMARY:Huddleston Garage Liquidation 
LOCATION:{location}
DESCRIPTION:Huddleston Garage Liquidation  This is an onsite auction at
  12817 Smith Mountain Lake Parkway Huddleston\, VA 24104. Pro
 perty is located very close to Mariners Landing. The only pi
 ckup date/times are Saturday\, April 12th from 9AM until 3PM.
  If you are unable to make this removal time\, we ask that yo
 u please refrain from bidding. No other pickup date/times av
 ailable. Bring help to move\, auction staff can't assist with
  loading.  Bidding Opens - Monday\, March 31st at 7PM Biddin
 g Closes - Friday\, April 11th beginning at 7PM Preview/Open-
 House - Friday\, April 11th from 2PM until 5:30PM Pickup/Remo
 val - Saturday\, April 12th from 9AM until 3PM - This is the 
 ONLY available removal time. Bring help to load\, no auction 
 staff will assist in loading.  Please Note: All items are s
 old as-is and where-is with no warranty expressed or implied
 . 15% buyer premium applies to all purchases\, as does VA sa
 les tax (5.3%) Buyer is responsible for removing/loading ite
 ms.  
URL:https://www.luckydogauction.com/auctions/detail/bw137973
SEQUENCE:1
END:VEVENT
END:VCALENDAR