BEGIN:VCALENDAR
VERSION:2.0
PRODID:-//ExpressionEngine Easy iCalendar plugin//NONSGML v2.0.1//EN
X-WR-TIMEZONE:America/New_York
X-WR-CALNAME:Upcoming Auctions
BEGIN:VEVENT
UID:137981
DTSTAMP:20250403T190000
DTSTART:20250403T190000
DTEND:20250410T190000
SUMMARY:Bedford Estate Auction
LOCATION:770 Cornell Rd\, Rocky Mount\, VA 24151\, US
DESCRIPTION:Bedford Estate Auction  Bidding Opens - Thursday\, April 3rd
  at 7PM Bidding Closes - Thursday\, April 10th beginning at 
 7PM Preview/Open-House - Thursday\, April 10th from 2-5:30PM
  Pickup/Removal - Friday\, April 11th from 10AM-5:30PM Pleas
 e Note: All items are sold as-is and where-is with no warran
 ty expressed or implied. There is a 15% buyer premium that a
 pplies to all purchases\, as does VA sales tax. Receive a 3% 
 discount off the premium by paying with cash or check.  
URL:https://www.luckydogauction.com/auctions/detail/bw137981
SEQUENCE:1
END:VEVENT
END:VCALENDAR