BEGIN:VCALENDAR
VERSION:2.0
PRODID:-//ExpressionEngine Easy iCalendar plugin//NONSGML v2.0.1//EN
X-WR-TIMEZONE:America/New_York
X-WR-CALNAME:Upcoming Auctions
BEGIN:VEVENT
UID:138404
DTSTAMP:20250506T190000
DTSTART:20250506T190000
DTEND:20250513T190000
SUMMARY:May Sportsman's Auction
LOCATION:770 Cornell Rd\, Rocky Mount\, VA 24151\, US
DESCRIPTION:May Sportsman's Auction Bidding Opens - Tuesday\, May 6th beg
 inning at 7pm Bidding Closes - Tuesday\, May 13th beginning a
 t 7pm Preview/Open-House - Tuesday\, May 13th from 2pm-5:30pm
  Removal/Pickup - Wednesday\, May 14th from 10am-5:30pm   
 (Items not picked up on this date are subject to a $7 stora
 ge fee) Any items not picked up within one week of the auct
 ion's pick up date will be forfeited to the auction company.
   Please Note:  All items are sold as-is and where-is wit
 h no warranty expressed or implied. There is a 15% buyer pre
 mium that applies to all purchases\, as does VA sales tax. Re
 ceive a 3% discount off the premium by paying with a cash or
  good check. Payment to be made within 24 hours of Auction'
 s end. 
URL:https://www.luckydogauction.com/auctions/detail/bw138404
SEQUENCE:1
END:VEVENT
END:VCALENDAR