BEGIN:VCALENDAR
VERSION:2.0
PRODID:-//ExpressionEngine Easy iCalendar plugin//NONSGML v2.0.1//EN
X-WR-TIMEZONE:America/New_York
X-WR-CALNAME:Upcoming Auctions
BEGIN:VEVENT
UID:138405
DTSTAMP:20250424T190000
DTSTART:20250424T190000
DTEND:20250501T190000
SUMMARY:April Consignment Auction - Part II
LOCATION:{location}
DESCRIPTION:April Consignment Auction - Part II Bidding Opens - Thursday
 \, April 24th at 7pm Bidding Closes - Thursday\, May 1st begin
 ning at 7pm Preview/Open-House - Thursday\, May 1st from 2pm-
 5:30pm Removal/Pickup - Friday\, May 2nd from 10am-5:30pm Ple
 ase Note: All items are sold as-is and where-is with no warr
 anty expressed or implied. There is a 15% buyer premium that
  applies to all purchases\, as does VA sales tax. Receive a 3
 % discount off the premium by paying with cash or check. 
URL:https://www.luckydogauction.com/auctions/detail/bw138405
SEQUENCE:1
END:VEVENT
END:VCALENDAR