BEGIN:VCALENDAR
VERSION:2.0
PRODID:-//ExpressionEngine Easy iCalendar plugin//NONSGML v2.0.1//EN
X-WR-TIMEZONE:America/New_York
X-WR-CALNAME:Upcoming Auctions
BEGIN:VEVENT
UID:138590
DTSTAMP:20250519T190000
DTSTART:20250519T190000
DTEND:20250526T190000
SUMMARY:May Consignment Auction
LOCATION:{location}
DESCRIPTION:May Consignment Auction  *Items Still Being Added* Bidding 
 Opens - Monday\, May 19th at 7PM Bidding Closes - Monday\, May
  26th beginning at 7PM Preview/Open-House - Monday\, May 26th
  from 2PM until 5:30PM Removal/Pickup - Tuesday\, May 27th fr
 om 10AM until 5:30PM Please Note: All items are sold as-is a
 nd where-is with no warranty expressed or implied. There is 
 a 15% buyer premium that applies to all purchases\, as does V
 A sales tax. Receive a 3% discount off the premium by paying
  with cash or check. 
URL:https://www.luckydogauction.com/auctions/detail/bw138590
SEQUENCE:1
END:VEVENT
END:VCALENDAR