BEGIN:VCALENDAR
VERSION:2.0
PRODID:-//ExpressionEngine Easy iCalendar plugin//NONSGML v2.0.1//EN
X-WR-TIMEZONE:America/New_York
X-WR-CALNAME:Upcoming Auctions
BEGIN:VEVENT
UID:139307
DTSTAMP:20250531T190000
DTSTART:20250531T190000
DTEND:20250609T190000
SUMMARY:Park Shores Estate Auction
LOCATION:770 Cornell Rd\, Rocky Mount\, VA 24151\, US
DESCRIPTION:Park Shores Estate Auction Bidding Opens: Saturday\, May 31st
  at 7pm Preview/Open-House: Monday\, June 9th from 2pm-5:30pm
  Bidding Closes: Monday\, June 9th beginning at 7pm Pickup/Re
 moval: Tuesday\, June 10th from 10am-5:30pm Please Note: All
  items are sold as-is and where-is with no warranty expresse
 d or implied. There is a 15% buyer premium that applies to a
 ll purchases\, as does VA sales tax. Receive a 3% discount of
 f the premium by paying with cash or check. 
URL:https://www.luckydogauction.com/auctions/detail/bw139307
SEQUENCE:1
END:VEVENT
END:VCALENDAR