BEGIN:VCALENDAR
VERSION:2.0
PRODID:-//ExpressionEngine Easy iCalendar plugin//NONSGML v2.0.1//EN
X-WR-TIMEZONE:America/New_York
X-WR-CALNAME:Upcoming Auctions
BEGIN:VEVENT
UID:139576
DTSTAMP:20250513T190000
DTSTART:20250513T190000
DTEND:20250521T190000
SUMMARY:Janitorial Supplies Liquidation Auction
LOCATION:770 Cornell Rd\, Rocky Mount\, VA 24151\, US
DESCRIPTION:Janitorial Supplies Liquidation Auction Bidding Opens - Tue
 sday\, May 13th at 7pm Bidding Closes - Wednesday\, May 21st 
 beginning at 7PM Preview/Open-House - Wednesday\, May 21st f
 rom 2PM-5:30PM Removal/Pickup - Thursday\, May 22nd from 10a
 m-5:30pm - Please Bring Help To Load! Please Note: All item
 s are sold as-is and where-is with no warranty expressed or 
 implied. There is a 15% buyer premium that applies to all pu
 rchases\, as does VA sales tax. Receive a 3% discount off the
  premium by paying with cash or check. 
URL:https://www.luckydogauction.com/auctions/detail/bw139576
SEQUENCE:1
END:VEVENT
END:VCALENDAR