BEGIN:VCALENDAR
VERSION:2.0
PRODID:-//ExpressionEngine Easy iCalendar plugin//NONSGML v2.0.1//EN
X-WR-TIMEZONE:America/New_York
X-WR-CALNAME:Upcoming Auctions
BEGIN:VEVENT
UID:139654
DTSTAMP:20250503T190000
DTSTART:20250503T190000
DTEND:20250515T190000
SUMMARY:Dillon Estate Auction
LOCATION:10 Holly Knoll Drive \, Rocky Mount\, VA 24151\, US
DESCRIPTION:Dillon Estate Auction  *Pickup at 10 Holly Knoll Drive Rock
 y Mount\, VA 24151* Bidding Opens - Saturday\, May 3rd beginni
 ng at 7PM Bidding Closes - Thursday\, May 15th beginning at 
 7PM Preview/Open-House - Thursday\, May 15th from 2PM-5:30PM
  Removal/Pickup - Friday\, May 16th from 9AM-6PM - Please B
 ring Help To Load! Please Note: All items are sold as-is and
  where-is with no warranty expressed or implied. There is a 
 15% buyer premium that applies to all purchases\, as does VA 
 sales tax. Receive a 3% discount off the premium by paying w
 ith cash or check. 
URL:https://www.luckydogauction.com/auctions/detail/bw139654
SEQUENCE:1
END:VEVENT
END:VCALENDAR