BEGIN:VCALENDAR
VERSION:2.0
PRODID:-//ExpressionEngine Easy iCalendar plugin//NONSGML v2.0.1//EN
X-WR-TIMEZONE:America/New_York
X-WR-CALNAME:Upcoming Auctions
BEGIN:VEVENT
UID:140172
DTSTAMP:20250512T190000
DTSTART:20250512T190000
DTEND:20250522T190000
SUMMARY:Schmidt Estate Auction
LOCATION:105 Forest Hill Lane\, Rocky Mount\, VA 24151\, US
DESCRIPTION:Schmidt Estate Auction * Pick Up Located at 105 Forest Hill 
 Lane  Rocky Mount\, VA 24151* Bidding Opens - Monday\, May 12
 th at 7PM Bidding Closes - Thursday\, May 22nd beginning at 7
 PM Preview - Thursday\, May 22nd from 2-5:30PM Pickup - Frida
 y\, May 23rd 10AM-5:30PM - Please Bring Help to Load! Please 
 Note:  All items are sold as-is and where-is with no warran
 ty expressed or implied. There is a 15% buyer premium that a
 pplies to all purchases\, as does VA sales tax. Receive a 3% 
 discount off the premium by paying with cash or check.   
URL:https://www.luckydogauction.com/auctions/detail/bw140172
SEQUENCE:1
END:VEVENT
END:VCALENDAR