BEGIN:VCALENDAR
VERSION:2.0
PRODID:-//ExpressionEngine Easy iCalendar plugin//NONSGML v2.0.1//EN
X-WR-TIMEZONE:America/New_York
X-WR-CALNAME:Upcoming Auctions
BEGIN:VEVENT
UID:140331
DTSTAMP:20250515T190000
DTSTART:20250515T190000
DTEND:20250528T190000
SUMMARY:19503 Virgil Goode Downsizing Auction
LOCATION:19503 Virgil H Goode Hwy\, Rocky Mount\, VA 24151\, US
DESCRIPTION:19503 Virgil Goode Downsizing Auction This is an onsite\, onl
 ine auction that is located at 19503 Virgil Goode Hwy Rocky 
 Mount\, VA 24151. Please Note: The ONLY pickup days are Thu
 rsday\, May 29th & Friday\, May 30th from 9:30am-5:30pm and yo
 u will need to bring help to load! If you are unable to make
  the pickup\, we ask that you please not bid on this auction.
  Items not picked up on pickup day will be forfeited and you
 r card will be charged\, no exceptions.  Bidding Opens: Thur
 sday\, May 15th at 7pm Preview/Open-House: Wednesday\, May 28t
 h from 2-5:30pm Bidding Closes: Wednesday\, May 28th beginnin
 g at 7pm Pickup/Removal: Thursday\, May 29th & Friday\, May 30
 th from 9:30am-5:30pm Please Note: All items are sold as-is
  and where-is with no warranty expressed or implied. There i
 s a 15% buyer premium that applies to all purchases\, as does
  VA sales tax. Receive a 3% discount off the premium by payi
 ng with cash or check.   
URL:https://www.luckydogauction.com/auctions/detail/bw140331
SEQUENCE:1
END:VEVENT
END:VCALENDAR