BEGIN:VCALENDAR
VERSION:2.0
PRODID:-//ExpressionEngine Easy iCalendar plugin//NONSGML v2.0.1//EN
X-WR-TIMEZONE:America/New_York
X-WR-CALNAME:Upcoming Auctions
BEGIN:VEVENT
UID:140569
DTSTAMP:20250516T110000
DTSTART:20250516T110000
DTEND:20250609T110000
SUMMARY:205 Park Shores Circle Real Estate Auction
LOCATION:{location}
DESCRIPTION:Online Real Estate Auction  Bidding Closes: Monday\, June 9t
 h at 11AM  205 Park Shores Circle Moneta\, VA 24121 Property
  Tours: Saturday\, May 24th at 10AM and Saturday\, June 7th a
 t 10AM  Call Phillip Via\, CAI at (540) 312-8569 with any qu
 estions. 
URL:https://www.luckydogauction.com/auctions/detail/bw140569
SEQUENCE:1
END:VEVENT
END:VCALENDAR