BEGIN:VCALENDAR
VERSION:2.0
PRODID:-//ExpressionEngine Easy iCalendar plugin//NONSGML v2.0.1//EN
X-WR-TIMEZONE:America/New_York
X-WR-CALNAME:Upcoming Auctions
BEGIN:VEVENT
UID:141473
DTSTAMP:20250613T190000
DTSTART:20250613T190000
DTEND:20250619T190000
SUMMARY:June Consignment Auction - Part One
LOCATION:{location}
DESCRIPTION:June Consignment Auction - Part One Bidding Opens - Friday\, 
 June 13th at 7PM Bidding Closes - Thursday\, June 19th begin
 ning at 7PM Preview/Open-House - Thursday\, June 19th from 2
 PM-5:30PM Pickup/Removal -  Friday\, June 20th from 10AM-5:3
 0PM Please Note: All items are sold as-is and where-is with 
 no warranty expressed or implied. There is a 15% buyer premi
 um that applies to all purchases as does VA sales tax. Recei
 ve a 3% discount off the premium by paying with cash or chec
 k. Any items/orders not picked up on the scheduled pickup da
 te/time will incur a $7 alternate pickup fee. 
URL:https://www.luckydogauction.com/auctions/detail/bw141473
SEQUENCE:1
END:VEVENT
END:VCALENDAR