BEGIN:VCALENDAR
VERSION:2.0
PRODID:-//ExpressionEngine Easy iCalendar plugin//NONSGML v2.0.1//EN
X-WR-TIMEZONE:America/New_York
X-WR-CALNAME:Upcoming Auctions
BEGIN:VEVENT
UID:142210
DTSTAMP:20250616T190000
DTSTART:20250616T190000
DTEND:20250623T190000
SUMMARY:23 Alean Rd Downsizing Auction
LOCATION:23 Alean Rd\, Wirtz\, VA 24184\, US
DESCRIPTION:23 Alean Rd Downsizing Auction Please Note: This is a online
 \, onsite auction. These items are located at 23 Alean Rd Roc
 ky Mount\, VA 24151. Bidding Opens: Monday\, June 16th at 7pm 
 Preview/Open-House: Monday\, June 23rd from 1pm-2pm Bidding C
 loses: Monday\, June 23rd beginning at 7pm Pickup/Removal: T
 uesday\, June 24th from 10am-5:30pm Please Note: This is a on
 line\, onsite auction. These items are located at 23 Alean Rd
  Rocky Mount\, VA 24151.  The ONLY pickup day is Tuesday\, 
 June 24th from 10am-5:30pm and you will need to bring help t
 o load! If you are unable to make the pickup\, we ask that yo
 u please not bid on this auction. Items not picked up on pic
 kup day will be forfeited and your card will be charged\, no 
 exceptions.  Please Note: All items are sold as-is and whe
 re-is with no warranty expressed or implied. There is a 15% 
 buyer premium that applies to all purchases\, as does VA sale
 s tax. Receive a 3% discount off the premium by paying with 
 cash or check. 
URL:https://www.luckydogauction.com/auctions/detail/bw142210
SEQUENCE:1
END:VEVENT
END:VCALENDAR