BEGIN:VCALENDAR
VERSION:2.0
PRODID:-//ExpressionEngine Easy iCalendar plugin//NONSGML v2.0.1//EN
X-WR-TIMEZONE:America/New_York
X-WR-CALNAME:Upcoming Auctions
BEGIN:VEVENT
UID:142354
DTSTAMP:20250627T190000
DTSTART:20250627T190000
DTEND:20250707T190000
SUMMARY:June Consignment Auction - Part 2
LOCATION:770 Cornell Rd\, Rocky Mount\, VA 24151\, US
DESCRIPTION:June Consignment Auction - Part 2 Bidding Opens - Friday\, Ju
 ne 27th at 7PM Bidding Closes - Monday\, July 7th beginning a
 t 7PM Preview/Open-House - Monday\, July 7th from 2PM until 5
 PM Pickup/Removal - Tuesday\, July 8th from 10AM until 5:30PM
  Please Note: All items are sold as-is and where-is with no 
 warranty expressed or implied. Virginia state sales tax appl
 ies (expect to silver\, gold\, and US currency) as does a 15% 
 Buyer Premium. Receive a 3% discount off the premium by payi
 ng cash or check. If you miss the pickup date/time a $7 stor
 age fee will be applied to your invoice. After 5 business da
 ys items will be considered forfeited and become property of
  Lucky Dog Auction & Realty Inc. 
URL:https://www.luckydogauction.com/auctions/detail/bw142354
SEQUENCE:1
END:VEVENT
END:VCALENDAR