BEGIN:VCALENDAR
VERSION:2.0
PRODID:-//ExpressionEngine Easy iCalendar plugin//NONSGML v2.0.1//EN
X-WR-TIMEZONE:America/New_York
X-WR-CALNAME:Upcoming Auctions
BEGIN:VEVENT
UID:143350
DTSTAMP:20250718T190000
DTSTART:20250718T190000
DTEND:20250730T190000
SUMMARY:July Consignment Auction
LOCATION:770 Cornell Rd\, Rocky Mount\, VA 24151\, US
DESCRIPTION:July Consignment Auction Bidding Opens - Friday\, July 18 at 
 7PM Preview/Open-House - Wednesday\, July 30 from 2PM-5:30PM
  Bidding Closes - Wednesday\, July 30th beginning at 7PM Pick
 up/Removal - Thursday\, July 31st from 10AM-5:30PM (Doors Cl
 ose at 5:30) Please Note - All items are sold as-is and whe
 re-is with no warranty expressed or implied. There is a 15% 
 buyer premium that applies to all purchases\, as does VA sale
 s tax. Receive a 3% discount off the premium by paying with 
 cash or good check.
URL:https://www.luckydogauction.com/auctions/detail/bw143350
SEQUENCE:1
END:VEVENT
END:VCALENDAR