BEGIN:VCALENDAR
VERSION:2.0
PRODID:-//ExpressionEngine Easy iCalendar plugin//NONSGML v2.0.1//EN
X-WR-TIMEZONE:America/New_York
X-WR-CALNAME:Upcoming Auctions
BEGIN:VEVENT
UID:144630
DTSTAMP:20250903T190000
DTSTART:20250903T190000
DTEND:20250917T190000
SUMMARY:September Consignment Auction
LOCATION:770 Cornell Rd\, Rocky Mount\, VA 24151\, US
DESCRIPTION:September Consignment Auction Bidding Opens: Wednesday\, Sept
 ember 3rd at 7pm Preview/Open-House: Wednesday\, September 17
 th from 2pm-5:30pm(Doors Close at 5:30pm) Bidding Closes: We
 dnesday\, September 17th beginning at 7pm Pickup/Removal: Thu
 rsday\, September 18th from 10am-5:30pm(Doors Close at 5:30pm
 )   Please Note: All items are sold as-is and where-is wit
 h no warranty expressed or implied. Virginia state sales tax
  applies (except to silver\, gold\, and US currency) as does 
 a 15% Buyer Premium. Receive a 3% discount off the premium b
 y paying cash or check. If you miss the pickup date/time a $
 7 storage fee will be applied to your invoice. After 5 busin
 ess days items will be considered forfeited and become prope
 rty of Lucky Dog Auction & Realty Inc. 
URL:https://www.luckydogauction.com/auctions/detail/bw144630
SEQUENCE:1
END:VEVENT
END:VCALENDAR