BEGIN:VCALENDAR
VERSION:2.0
PRODID:-//ExpressionEngine Easy iCalendar plugin//NONSGML v2.0.1//EN
X-WR-TIMEZONE:America/New_York
X-WR-CALNAME:Upcoming Auctions
BEGIN:VEVENT
UID:145290
DTSTAMP:20250728T120000
DTSTART:20250728T120000
DTEND:20250828T110000
SUMMARY:19503 Virgil H Goode Hwy Online Real Estate Auction
LOCATION:{location}
DESCRIPTION:Online Real Estate Auction  Bidding Closes: Thursday\, Augus
 t 28th beginning at 11AM (EST) 19503 Virgil H Goode Hwy Roc
 ky Mount\, VA 24151 Property Tours: Saturday\, August 9th at 
 10AM and Saturday\, August 23rd at 10AM Call Phillip Via\, CAI
  at (540) 312-8569 with any questions. 
URL:https://www.luckydogauction.com/auctions/detail/bw145290
SEQUENCE:1
END:VEVENT
END:VCALENDAR