BEGIN:VCALENDAR
VERSION:2.0
PRODID:-//ExpressionEngine Easy iCalendar plugin//NONSGML v2.0.1//EN
X-WR-TIMEZONE:America/New_York
X-WR-CALNAME:Upcoming Auctions
BEGIN:VEVENT
UID:147552
DTSTAMP:20250930T190000
DTSTART:20250930T190000
DTEND:20251013T190000
SUMMARY:Fall Equipment Auction
LOCATION:770 Cornell Rd\, Rocky Mount\, VA 24151\, US
DESCRIPTION:Fall Equipment Auction - Bidding Opens: Tuesday\, September 3
 0th at 7pm - Preview/Open-House: Friday\, October 10th & Mond
 ay\, October 13th from 10am-5:30pm(Doors Close at 5:30pm) - B
 idding Closes: Monday\, October 13th beginning at 7pm - Picku
 p/Removal: Tuesday\, October 14th\, Wednesday\, October 15th\, T
 hursday\, October 16th\, & Friday\, October 17th by Appt. Only
 . If you show up without an appointment to pickup\, you will 
 be reminded to schedule a pickup slot.  Pickup will be by a
 ppointment only. There will be a link in the invoice emailed
  to you to the sign up schedule AFTER the auction ends. Foll
 ow the link on your invoice to sign up for a date and time s
 lot.  Please Note - All items are sold as-is and where-is 
 with no warranty expressed or implied. There is a 15% buyer 
 premium that applies to all purchases\, as does VA sales tax.
  Receive a 3% discount off the premium by paying with cash o
 r good check. No out of state personal checks will be accept
 ed. Bring your ST-18 or ST-10 Forms for tax exempt. 
URL:https://www.luckydogauction.com/auctions/detail/bw147552
SEQUENCE:1
END:VEVENT
END:VCALENDAR