BEGIN:VCALENDAR
VERSION:2.0
PRODID:-//ExpressionEngine Easy iCalendar plugin//NONSGML v2.0.1//EN
X-WR-TIMEZONE:America/New_York
X-WR-CALNAME:Upcoming Auctions
BEGIN:VEVENT
UID:147862
DTSTAMP:20250915T190000
DTSTART:20250915T190000
DTEND:20250925T190000
SUMMARY:Factory Direct Equipment Auction
LOCATION:770 Cornell Rd\, Rocky Mount\, VA 24151\, US
DESCRIPTION:Factory Direct Equipment Auction - Bidding Opens: Monday\, Se
 ptember 15th at 7pm - Preview/Open-House: Thursday\, Septembe
 r 25th from 10am-5:30pm - Auction Closes: Thursday\, Septembe
 r 25th beginning at 7pm - Pickup/Removal: Friday\, September 
 26th By Appt. Only Pickup will be by appointment only. There
  will be a link in the invoice emailed to you to the sign up
  schedule AFTER the auction ends. Follow the link on your in
 voice to sign up for a date and time slot.  Please Note - 
 All items are sold as-is and where-is with no warranty expre
 ssed or implied. There is a 15% buyer premium that applies t
 o all purchases\, as does VA sales tax. Receive a 3% discount
  off the premium by paying with cash or good check. No out o
 f state personal checks will be accepted. Bring your ST-18 o
 r ST-10 Forms for tax exempt. 
URL:https://www.luckydogauction.com/auctions/detail/bw147862
SEQUENCE:1
END:VEVENT
END:VCALENDAR