BEGIN:VCALENDAR
VERSION:2.0
PRODID:-//ExpressionEngine Easy iCalendar plugin//NONSGML v2.0.1//EN
X-WR-TIMEZONE:America/New_York
X-WR-CALNAME:Upcoming Auctions
BEGIN:VEVENT
UID:147982
DTSTAMP:20250929T190000
DTSTART:20250929T190000
DTEND:20251009T190000
SUMMARY:October Consignment Auction
LOCATION:770 Cornell Rd\, Rocky Mount\, VA 24151\, US
DESCRIPTION:October Consignment Auction We've got a nice line-up of item
 s for you this time! A handful of small items from the Estat
 e of Dr. Francis Amos + High-end furniture and decor from a
  beautiful Smith Mountain Lake home + Highly collectible sil
 ver & gold coins + Loads of estate items!  - Bidding Opens:
  Monday\, September 29th at 7pm - Preview/Open House: Thursda
 y\, October 9th from 2pm-5:30pm - Auction Closes: Thursday\, O
 ctober 9th beginning at 7pm - Pickup/Removal: Friday\, Octobe
 r 10th from 10am-5:30pm(Doors Close at 5:30)   Terms and Co
 nditions - 15% Buyer Premium (Receive a 3% Discount off the 
 Premium with Cash or Check) Please read the full list of ter
 ms by clicking the "terms" tab or info button. If you miss t
 he pickup date/time a $7 storage fee will be applied to your
  invoice. After 5 business days items will be considered for
 feited and become property of Lucky Dog Auction & Realty Inc
 . 
URL:https://www.luckydogauction.com/auctions/detail/bw147982
SEQUENCE:1
END:VEVENT
END:VCALENDAR