BEGIN:VCALENDAR
VERSION:2.0
PRODID:-//ExpressionEngine Easy iCalendar plugin//NONSGML v2.0.1//EN
X-WR-TIMEZONE:America/New_York
X-WR-CALNAME:Upcoming Auctions
BEGIN:VEVENT
UID:148311
DTSTAMP:20251021T190000
DTSTART:20251021T190000
DTEND:20251028T190000
SUMMARY:SML Downsizing Auction Pt. 1
LOCATION:770 Cornell Rd\, Rocky Mount\, VA 24151\, US
DESCRIPTION:SML Downsizing Auction Pt. 1 This auctionÂ includes a wide r
 ange of items\, from top name-brand tools to Office SuppliesÂ
  and everything In-between. All of these products are new ol
 d stock and not store returns. While some boxes may be open\,
  all components appear to be present and accounted for. Â - 
 Bidding Opens: Tuesday\, October 21st beginning at 7pm Â - Pr
 eview/Open-House: Tuesday\, October 28th from 2pm-5:30pm Â - 
 Bidding Closes: Tuesday\, October 28th beginning at 7pm Â - P
 ickup/Removal: Wednesday\, October 29th from 10am-5:30pm(Door
 s Close at 5:30pm Terms and Conditions - 15% Buyer Premium (
 Receive a 3% Discount off the Premium with Cash or Check) Pl
 ease read the full list of terms by clicking the "terms" tab
  or info button. If you miss the pickup date/time a $7 stora
 ge fee will be applied to your invoice. After 5 business day
 s items will be considered forfeited and become property of 
 Lucky Dog Auction & Realty Inc.Â 
URL:https://www.luckydogauction.com/auctions/detail/bw148311
SEQUENCE:1
END:VEVENT
END:VCALENDAR