BEGIN:VCALENDAR
VERSION:2.0
PRODID:-//ExpressionEngine Easy iCalendar plugin//NONSGML v2.0.1//EN
X-WR-TIMEZONE:America/New_York
X-WR-CALNAME:Upcoming Auctions
BEGIN:VEVENT
UID:148501
DTSTAMP:20250926T190000
DTSTART:20250926T190000
DTEND:20251007T190000
SUMMARY:Greenhouse Road Downsizing Auction
LOCATION:1000 Greenhouse Rd\, Glade Hill\, VA 24092\, US
DESCRIPTION:Greenhouse Road Downsizing Auction Note Pickup Address: 1000
  Greenhouse Rd Glade Hill\, VA 24092 - Bidding Opens: Friday
 \, September 26th at 7pm - Preview/Open House: Tuesday\, Octob
 er 7th from 4pm-5:30pm - Bidding Closes: Tuesday\, October 7t
 h beginning at 7pm - Pickup/Removal: Wednesday\, October 8th 
 from 10am-5:30pm - (Doors close at 5:30pm)  - Bring help to
  load! Auction Staff is not responsible for loading! The ONL
 Y pickup day is Wednesday\, October 8th from 10am-5:30pm. 
 If you are unable to make the pickup\, we ask that you please
  not bid on this auction. Items not picked up on pickup day 
 will be forfeited and your card will be charged\, no exceptio
 ns.  Please Note - All items are sold as-is and where-is w
 ith no warranty expressed or implied. There is a 15% buyer p
 remium that applies to all purchases\, as does VA sales tax. 
 Receive a 3% discount off the premium by paying with cash or
  good check. No out of state personal checks will be accepte
 d. Bring your ST-18 or ST-10 Forms for tax exempt. 
URL:https://www.luckydogauction.com/auctions/detail/bw148501
SEQUENCE:1
END:VEVENT
END:VCALENDAR