BEGIN:VCALENDAR
VERSION:2.0
PRODID:-//ExpressionEngine Easy iCalendar plugin//NONSGML v2.0.1//EN
X-WR-TIMEZONE:America/New_York
X-WR-CALNAME:Upcoming Auctions
BEGIN:VEVENT
UID:148729
DTSTAMP:20250919T190000
DTSTART:20250919T190000
DTEND:20251014T110000
SUMMARY:1810 Scuffling Hill Road Real Estate Auction
LOCATION:{location}
DESCRIPTION:Online Real Estate Auction - 1810 Scuffling Hill Road Rocky
  Mount\, VA 24151 Bidding Closes Tuesday\, October 14th at 11A
 M EST Don’t miss this rare opportunity to acquire a spacio
 us 3-bed\, 2-bath home in Rocky Mount\, VA at the price you se
 t. With over 1\,680 square feet of living space\, large lot\, a
 nd proximity to local amenities\, this property offers excell
 ent value and potential. Whether you're looking for a primar
 y residence\, a rental investment\, or a renovation project\, t
 his home has solid bones and is ready for someone to make it
  their own. Bidding starts at $50\,000.
URL:https://www.luckydogauction.com/auctions/detail/bw148729
SEQUENCE:1
END:VEVENT
END:VCALENDAR