BEGIN:VCALENDAR
VERSION:2.0
PRODID:-//ExpressionEngine Easy iCalendar plugin//NONSGML v2.0.1//EN
X-WR-TIMEZONE:America/New_York
X-WR-CALNAME:Upcoming Auctions
BEGIN:VEVENT
UID:149098
DTSTAMP:20251003T190000
DTSTART:20251003T190000
DTEND:20251021T190000
SUMMARY:Martinell Ave Estate Auction
LOCATION:3652 Martinell Ave\, Roanoke\, VA 24018\, US
DESCRIPTION:Martinell Ave Estate Auction  - Bidding Opens: Friday\, Octo
 ber 3rd at 7pm  - Preview/Open-House: Tuesday\, October 21st
  from 4pm-5:30pm at 3652 Martinell Ave Roanoke\, VA 24018  
 - Bidding Closes: Tuesday\, October 21st beginning at 7pm  -
  Pickup/Removal: Wednesday\, October 22nd from 10am-5:30pm a
 t 3652 Martinell Ave Roanoke\, VA 24018 - Bring help to load
 !  The ONLY pickup day is Wednesday\, October 22nd from 1
 0am-5:30pm. If you are unable to make the pickup\, we ask tha
 t you please not bid on this auction. Items not picked up on
  pickup day will be forfeited and your card will be charged\,
  no exceptions.  Please Note - All items are sold as-is an
 d where-is with no warranty expressed or implied. There is a
  15% buyer premium that applies to all purchases\, as does VA
  sales tax. Receive a 3% discount off the premium by paying 
 with cash or good check. No out of state personal checks wil
 l be accepted. Bring your ST-18 or ST-10 Forms for tax exemp
 t. 
URL:https://www.luckydogauction.com/auctions/detail/bw149098
SEQUENCE:1
END:VEVENT
END:VCALENDAR