BEGIN:VCALENDAR
VERSION:2.0
PRODID:-//ExpressionEngine Easy iCalendar plugin//NONSGML v2.0.1//EN
X-WR-TIMEZONE:America/New_York
X-WR-CALNAME:Upcoming Auctions
BEGIN:VEVENT
UID:149403
DTSTAMP:20251027T190000
DTSTART:20251027T190000
DTEND:20251103T190000
SUMMARY:November Consignment Auction - Part 1
LOCATION:770 Cornell Rd\, Rocky Mount\, VA 24151\, US
DESCRIPTION:November Consignment Auction - Part 1 Bidding Opens: Monday\,
  October 27th beginning at 7pm Preview/Open-House: Monday\, 
 November 3rd from 2pm-5:30pm Bidding Closes: Monday\, Novembe
 r 3rd beginning at 7pm Pickup/Removal: Tuesday\, November 4t
 h from 10am-5:30pm (Doors Close at 5:30pm) Terms and Condit
 ions - 15% Buyer Premium (Receive a 3% Discount off the Prem
 ium with Cash or Check) Please read the full list of terms b
 y clicking the "terms" tab or info button. If you miss the p
 ickup date/time a $7 storage fee will be applied to your inv
 oice. After 5 business days items will be considered forfeit
 ed and become property of Lucky Dog Auction & Realty Inc. 
URL:https://www.luckydogauction.com/auctions/detail/bw149403
SEQUENCE:1
END:VEVENT
END:VCALENDAR