BEGIN:VCALENDAR
VERSION:2.0
PRODID:-//ExpressionEngine Easy iCalendar plugin//NONSGML v2.0.1//EN
X-WR-TIMEZONE:America/New_York
X-WR-CALNAME:Upcoming Auctions
BEGIN:VEVENT
UID:149906
DTSTAMP:20251024T190000
DTSTART:20251024T190000
DTEND:20251110T190000
SUMMARY:Fall Sportsman Auction
LOCATION:{location}
DESCRIPTION:Fall Sportsman Auction  - Bidding Opens: Friday\, October 24
 th at 7pm - Preview/Open House: Monday\, November 10th from 1
 2pm-5:30pm - Auction Closes: Monday\, November 10th beginning
  at 7pm - Pickup/Removal: Tuesday\, November 11th        
                           Wednesday\, November 1
 2th                                  Thursd
 ay\, November 13th  Pickup will be appointment only. If you
  show up without an appointment to pickup a firearm\, you wil
 l be reminded to schedule a pickup slot.  There will be a l
 ink in the invoice emailed to you after the auction ends tha
 t will allow you to choose a date/time for your background c
 heck....
URL:https://www.luckydogauction.com/auctions/detail/bw149906
SEQUENCE:1
END:VEVENT
END:VCALENDAR