BEGIN:VCALENDAR
VERSION:2.0
PRODID:-//ExpressionEngine Easy iCalendar plugin//NONSGML v2.0.1//EN
X-WR-TIMEZONE:America/New_York
X-WR-CALNAME:Upcoming Auctions
BEGIN:VEVENT
UID:152325
DTSTAMP:20251216T190000
DTSTART:20251216T190000
DTEND:20251230T190000
SUMMARY:January Consignment Auction
LOCATION:770 Cornell Rd\, Rocky Mount\, VA 24151\, US
DESCRIPTION:January Consignment Auction - Preview/Open-House: Tuesday\, D
 ecember 30th from 2pm-5:00pm - Auction Closes: Tuesday\, Dece
 mber 30th beginning at 7pm - Pickup/Removal: Wednesday\, Dece
 mber 31st from 10am-5:00pm Terms and Conditions - 15% Buyer 
 Premium (Receive a 3% Discount off the Premium with Cash or 
 Check) Please read the full list of terms by clicking the "t
 erms" tab or info button. If you miss the pickup date/time a
  $7 storage fee will be applied to your invoice. After 5 bus
 iness days items will be considered forfeited and become pro
 perty of Lucky Dog Auction & Realty Inc.
URL:https://www.luckydogauction.com/auctions/detail/bw152325
SEQUENCE:1
END:VEVENT
END:VCALENDAR