BEGIN:VCALENDAR
VERSION:2.0
PRODID:-//ExpressionEngine Easy iCalendar plugin//NONSGML v2.0.1//EN
X-WR-TIMEZONE:America/New_York
X-WR-CALNAME:Upcoming Auctions
BEGIN:VEVENT
UID:152408
DTSTAMP:20251216T190000
DTSTART:20251216T190000
DTEND:20251229T190000
SUMMARY:365 Isolane Road Estate Auction
LOCATION:365 Isolane Road\, Callaway\, VA 24067\, US
DESCRIPTION:365 Isolane Road Estate Auction  Auction Location: 365 Iso
 lane Rd  Callaway\, VA 24067 Preview/Open House:  Monday\, 
 December 29th from 3-5PM Bidding Closes:  Auction begins t
 o close at 7PM on Monday\, December 29th.  Pickup/Removal: 
  Tuesday\, December 30th from 10AM-5PM * If purchasing a Fir
 earm that requires a background check - Background Checks an
 d Firearm Pickup will be conducted at Lucky Dog Auction Hous
 e 770 Cornell Rd in Rocky Mount\, VA on Tuesday\, December 30 
 from 10AM-5PM.  Please Bring Help to Load Many/Heavy Items 
 The ONLY pickup day is Tuesday\, December 30th from 10AM-5PM.
  If you are unable to make the pickup\, we ask that you pleas
 e not bid on this auction. Items not picked up on pickup day
  will be forfeited and your card will be charged\, no excepti
 ons.  Please Note - All items are sold as-is and where-is w
 ith no warranty expressed or implied. There is a 15% buyer p
 remium that applies to all purchases\, as does VA sales tax. 
 Receive a 3% discount off the buyer's premium by paying with
  cash or good check. No out of state personal checks will be
  accepted. 
URL:https://www.luckydogauction.com/auctions/detail/bw152408
SEQUENCE:1
END:VEVENT
END:VCALENDAR