BEGIN:VCALENDAR
VERSION:2.0
PRODID:-//ExpressionEngine Easy iCalendar plugin//NONSGML v2.0.1//EN
X-WR-TIMEZONE:America/New_York
X-WR-CALNAME:Upcoming Auctions
BEGIN:VEVENT
UID:154071
DTSTAMP:20260103T190000
DTSTART:20260103T190000
DTEND:20260112T190000
SUMMARY:Katsifos Estate Auction - Part One
LOCATION:1807 Sam Lions Trail \, Martinsville \, VA 24112\, US
DESCRIPTION:Katsifos Estate Auction - Part One  This is an on-site onli
 ne auction. All items will be previewed and picked up in Mar
 tinsville\, VA. Please note the very important dates below: B
 idding Opens - Saturday\, January 3rd at 6PM Bidding Closes -
  Monday\, January 12th beginning at 7PM Preview/Open-House - 
 Monday\, January 12th from 2PM until 5PM at 1807 Sam Lions Tr
 ail Martinsville\, VA 24112 Removal/Pickup - Tuesday. January
  13th from 10AM until 5PM at 1807 Sam Lions Trail Martinsvil
 le\, VA 24112 Lucky Dog Auction & Realty\, INC provides this A
 bandonment Policy to inform you of our policies and procedur
 es regarding any purchased item(s)/property that has not bee
 n removed by a buyer during the allotted scheduled pickup ti
 me. Upon winning the bid for an item(s)\, after paying for it
 em(s) purchased\, a buyer is obligated to remove the item(s) 
 from the auction site within the scheduled pickup time. Item
 s not picked up at time of pickup will be forfeited and your
  card will be charged - no exceptions. 
URL:https://www.luckydogauction.com/auctions/detail/bw154071
SEQUENCE:1
END:VEVENT
END:VCALENDAR