BEGIN:VCALENDAR
VERSION:2.0
PRODID:-//ExpressionEngine Easy iCalendar plugin//NONSGML v2.0.1//EN
X-WR-TIMEZONE:America/New_York
X-WR-CALNAME:Upcoming Auctions
BEGIN:VEVENT
UID:154308
DTSTAMP:20251229T190000
DTSTART:20251229T190000
DTEND:20260108T190000
SUMMARY:January Mini Excavator Auction
LOCATION:{location}
DESCRIPTION:January Mini Excavator Auction - Preview/Open-House: Thursda
 y\, January 8th from 10am-5pm - Auction Ends: Thursday\, Janua
 ry 8th beginning at 7pm - Pickup/Removal: Friday\, January 9t
 h from 10am-5pm Please Note - All items are sold as-is and 
 where-is with no warranty expressed or implied. There is a 1
 5% buyer premium that applies to all purchases\, as does VA s
 ales tax. Receive a 3% discount off the premium by paying wi
 th cash or good check. No out of state personal checks will 
 be accepted. Bring your ST-18 or ST-10 Forms for tax exempt.
  We cannot accept out-of state tax exempt certificates. Virg
 inia does not honor out of state tax exemptions.
URL:https://www.luckydogauction.com/auctions/detail/bw154308
SEQUENCE:1
END:VEVENT
END:VCALENDAR