BEGIN:VCALENDAR
VERSION:2.0
PRODID:-//ExpressionEngine Easy iCalendar plugin//NONSGML v2.0.1//EN
X-WR-TIMEZONE:America/New_York
X-WR-CALNAME:Upcoming Auctions
BEGIN:VEVENT
UID:155958
DTSTAMP:20260309T190000
DTSTART:20260309T190000
DTEND:20260319T190000
SUMMARY:Spring Coin Auction
LOCATION:{location}
DESCRIPTION:Spring Coin Auction  Bidding Opens - Monday\, March 9th at 7
 PM Preview/Open-House - Thursday\, March 19th from 2PM till 5
 PM at 770 Cornell Rd Rocky Mount\, VA 24151 Bidding Closes - 
 Thursday\, March 19th beginning at 7PM Pickup/Removal - Frida
 y\, March 20th from 10AM until 5PM Please Note: All items are
  sold as-is and where-is with no warranty expressed or impli
 ed. All silver and gold coins have been Sigma tested and are
  authentic. There is a 15% buyer premium that applies to all
  items\, as does Virginia sales tax (5.3%). No sales tax will
  be collected on silver bullion\, gold bullion or US currency
  or US coinage. 
URL:https://www.luckydogauction.com/auctions/detail/bw155958
SEQUENCE:1
END:VEVENT
END:VCALENDAR