BEGIN:VCALENDAR
VERSION:2.0
PRODID:-//ExpressionEngine Easy iCalendar plugin//NONSGML v2.0.1//EN
X-WR-TIMEZONE:America/New_York
X-WR-CALNAME:Upcoming Auctions
BEGIN:VEVENT
UID:156825
DTSTAMP:20260219T190000
DTSTART:20260219T190000
DTEND:20260226T190000
SUMMARY:February Consignment Auction
LOCATION:770 Cornell Rd\, Rocky Mount\, VA 24151\, US
DESCRIPTION:February Consignment Auction - Bidding Opens: Thursday\, Febr
 uary 19th at 7pm - Preview/Open-House: Thursday\,  February
  26th from 2pm-5pm - Auction Closes: Thursday\, February 26th
  beginning at 7pm - Pickup/Removal: Friday\, February 27th f
 rom 10am-5pm Terms and Conditions - 15% Buyer Premium (Rec
 eive a 3% Discount off the Premium with Cash or Check) Pleas
 e read the full list of terms by clicking the "terms" tab or
  info button. If you miss the pickup date/time a $7 storage 
 fee will be applied to your invoice. After 5 business days i
 tems will be considered forfeited and become property of Luc
 ky Dog Auction & Realty Inc.
URL:https://www.luckydogauction.com/auctions/detail/bw156825
SEQUENCE:1
END:VEVENT
END:VCALENDAR