BEGIN:VCALENDAR
VERSION:2.0
PRODID:-//ExpressionEngine Easy iCalendar plugin//NONSGML v2.0.1//EN
X-WR-TIMEZONE:America/New_York
X-WR-CALNAME:Upcoming Auctions
BEGIN:VEVENT
UID:159248
DTSTAMP:20260422T190000
DTSTART:20260422T190000
DTEND:20260430T190000
SUMMARY:April Consignment Auction
LOCATION:770 Cornell Rd\, Rocky Mount\, VA 24151\, US
DESCRIPTION:April Consignment Auction   Items Still Being Added!  Bid
 ding Opens - Wednesday\, April 22nd beginning at 7PM Bidding 
 Closes - Thursday\, April 30th beginning at 7PM  Preview/Ope
 n-House - Thursday\, April 30th from 2PM until 5PM  Pickup/R
 emoval - Friday\, May 1st from 10AM until 5PM  Please Note: 
 All items are sold as-is and where-is with no warranty expre
 ssed or implied. There is a 15% buyer premium that applies t
 o all purchases\, as does VA sales tax. Receive a 3% discount
  off the premium by paying with cash or good check. 
URL:https://www.luckydogauction.com/auctions/detail/bw159248
SEQUENCE:1
END:VEVENT
END:VCALENDAR